BEGIN:VCALENDAR
VERSION:2.0
PRODID:-//Kleinkunst Bühne | Königsbrunn - ECPv6.15.20//NONSGML v1.0//EN
CALSCALE:GREGORIAN
METHOD:PUBLISH
X-WR-CALNAME:Kleinkunst Bühne | Königsbrunn
X-ORIGINAL-URL:https://kleinkunstbuehne-koenigsbrunn.de
X-WR-CALDESC:Veranstaltungen für Kleinkunst Bühne | Königsbrunn
REFRESH-INTERVAL;VALUE=DURATION:PT1H
X-Robots-Tag:noindex
X-PUBLISHED-TTL:PT1H
BEGIN:VTIMEZONE
TZID:Europe/Berlin
BEGIN:DAYLIGHT
TZOFFSETFROM:+0100
TZOFFSETTO:+0200
TZNAME:CEST
DTSTART:20220327T010000
END:DAYLIGHT
BEGIN:STANDARD
TZOFFSETFROM:+0200
TZOFFSETTO:+0100
TZNAME:CET
DTSTART:20221030T010000
END:STANDARD
BEGIN:DAYLIGHT
TZOFFSETFROM:+0100
TZOFFSETTO:+0200
TZNAME:CEST
DTSTART:20230326T010000
END:DAYLIGHT
BEGIN:STANDARD
TZOFFSETFROM:+0200
TZOFFSETTO:+0100
TZNAME:CET
DTSTART:20231029T010000
END:STANDARD
BEGIN:DAYLIGHT
TZOFFSETFROM:+0100
TZOFFSETTO:+0200
TZNAME:CEST
DTSTART:20240331T010000
END:DAYLIGHT
BEGIN:STANDARD
TZOFFSETFROM:+0200
TZOFFSETTO:+0100
TZNAME:CET
DTSTART:20241027T010000
END:STANDARD
END:VTIMEZONE
BEGIN:VEVENT
DTSTART;TZID=Europe/Berlin:20230512T190000
DTEND;TZID=Europe/Berlin:20230512T230000
DTSTAMP:20260421T233023
CREATED:20221009T104134Z
LAST-MODIFIED:20231025T155131Z
UID:3803-1683918000-1683932400@kleinkunstbuehne-koenigsbrunn.de
SUMMARY:ABBA - The Tribute Dinner Show
DESCRIPTION:Erleben Sie die unvergesslichen Hits von ABBA \n \nStarke Stimmen \nAuthentisch und voller Emotionen präsentieren unsere Künstler hautnah die größten Abba Hits. \n \nSinnlicher Genuss \nErleben Sie die Hits der unvergleichlichen schwedischen Kultband ABBA\, mit rund 400 Millionen verkauften Tonträgern eine der erfolgreichsten Bands aller Zeiten! Begleitet von einem exquisiten Mehr-Gang-Menü entführen wir die Gäste in die Zeit der Schlaghosen und Plateauschuhe. Lassen Sie sich kulinarisch verwöhnen und genießen Sie den Abend mit allen Sinnen. \n \nABBA-Hits \nIn stilechten Kostümen lassen unsere Künstler die Disco-Ära mit Hits wie “Dancing Queen“ und “Mamma Mia“ wieder aufleben. Werden Sie Teil eines unvergesslichen Abends\, hautnah mit Anni-Frid\, Björn\, Benni und Agnetha und begeben Sie sich auf eine Reise in die musikalische Welt von ABBA. \nTickets
URL:https://kleinkunstbuehne-koenigsbrunn.de/event/abba-the-tribute-dinner-show/
LOCATION:Theatersaal des Trachtenheims\, Donauwörther Str. 46\, Königsbrunn\, 86343\, Deutschland
CATEGORIES:Konzert
ATTACH;FMTTYPE=image/jpeg:https://kleinkunstbuehne-koenigsbrunn.de/wp-content/uploads/2022/10/Abba_Dinner_Slider.jpg
END:VEVENT
END:VCALENDAR