BEGIN:VCALENDAR
VERSION:2.0
PRODID:-//Kleinkunst Bühne | Königsbrunn - ECPv6.15.20//NONSGML v1.0//EN
CALSCALE:GREGORIAN
METHOD:PUBLISH
X-WR-CALNAME:Kleinkunst Bühne | Königsbrunn
X-ORIGINAL-URL:https://kleinkunstbuehne-koenigsbrunn.de
X-WR-CALDESC:Veranstaltungen für Kleinkunst Bühne | Königsbrunn
REFRESH-INTERVAL;VALUE=DURATION:PT1H
X-Robots-Tag:noindex
X-PUBLISHED-TTL:PT1H
BEGIN:VTIMEZONE
TZID:Europe/Berlin
BEGIN:DAYLIGHT
TZOFFSETFROM:+0100
TZOFFSETTO:+0200
TZNAME:CEST
DTSTART:20220327T010000
END:DAYLIGHT
BEGIN:STANDARD
TZOFFSETFROM:+0200
TZOFFSETTO:+0100
TZNAME:CET
DTSTART:20221030T010000
END:STANDARD
BEGIN:DAYLIGHT
TZOFFSETFROM:+0100
TZOFFSETTO:+0200
TZNAME:CEST
DTSTART:20230326T010000
END:DAYLIGHT
BEGIN:STANDARD
TZOFFSETFROM:+0200
TZOFFSETTO:+0100
TZNAME:CET
DTSTART:20231029T010000
END:STANDARD
BEGIN:DAYLIGHT
TZOFFSETFROM:+0100
TZOFFSETTO:+0200
TZNAME:CEST
DTSTART:20240331T010000
END:DAYLIGHT
BEGIN:STANDARD
TZOFFSETFROM:+0200
TZOFFSETTO:+0100
TZNAME:CET
DTSTART:20241027T010000
END:STANDARD
END:VTIMEZONE
BEGIN:VEVENT
DTSTART;TZID=Europe/Berlin:20230922T180000
DTEND;TZID=Europe/Berlin:20230922T220000
DTSTAMP:20260421T163453
CREATED:20221009T105059Z
LAST-MODIFIED:20230819T075154Z
UID:3810-1695405600-1695420000@kleinkunstbuehne-koenigsbrunn.de
SUMMARY:Stefan Kröll - Aufbruch
DESCRIPTION:Aufbruch! Heißt das neue Kabarett Programm von Stefan Kröll\, mit dem der Kabarettist ab Anfang 2022 auf Tour geht. Aufbruch in eine neue Ära? Aufbruch eingefahrener Denkweisen oder einfach nur der Aufbruch beim Wild- eine bayerische Antwort auf „des Pudels Kern“ von Goethe? So mehrdeutig wie der Titel sind auch dieses Mal wieder seine skurrilen Geschichten\, Querverbindungen und Gedankensprünge\, die längst zum Markenzeichen der höchst unterhaltsamen Vorstellungen geworden sind. „Was macht Hannibal mit seinem Resturlaub?“ „Weshalb lässt sich die eigene Tochter nicht von der Nussallergie überzeugen?“  „Und warum würde Stefan Kröll ein Lieblingswort der Deutschen\, nämlich –Stress- gerne aus dem Wortschatz verbannen?“\nDie Verbindung von Globalem mit Lokalem\, von Geschichte und absurd- schrägem Humor prägen auch im neuen Programm Stefan Kröll´s ganz eigenen Zugang zum Kabarett.  In seinem dritten Soloprogramm wagt der Kabarettist und gelernte Schreiner nichts weniger als den „Aufbruch“ aus dem Tal des Jammerns\, der Heimat der ewigen Nörgler und Schwarzseher. Raus aus dem seltsam komplizierten Selbstmitleid\, hinein in die Welt der schrägen Komik\, in das Reich skurriler Geschichten von der Antike bis ins Jetzt. Ein Kabarett- Programm\, das beim Zuschauer noch lange nachwirkt. Man darf gespannt sein.
URL:https://kleinkunstbuehne-koenigsbrunn.de/event/stefan-kroell-aufbruch/
LOCATION:Theatersaal des Trachtenheims\, Donauwörther Str. 46\, Königsbrunn\, 86343\, Deutschland
CATEGORIES:Kabarett
ATTACH;FMTTYPE=image/jpeg:https://kleinkunstbuehne-koenigsbrunn.de/wp-content/uploads/2022/10/61dd4fb14cbee4244cfb68fa.jpg
END:VEVENT
END:VCALENDAR