BEGIN:VCALENDAR
VERSION:2.0
PRODID:-//Kleinkunst Bühne | Königsbrunn - ECPv6.15.20//NONSGML v1.0//EN
CALSCALE:GREGORIAN
METHOD:PUBLISH
X-ORIGINAL-URL:https://kleinkunstbuehne-koenigsbrunn.de
X-WR-CALDESC:Veranstaltungen für Kleinkunst Bühne | Königsbrunn
REFRESH-INTERVAL;VALUE=DURATION:PT1H
X-Robots-Tag:noindex
X-PUBLISHED-TTL:PT1H
BEGIN:VTIMEZONE
TZID:Europe/Berlin
BEGIN:DAYLIGHT
TZOFFSETFROM:+0100
TZOFFSETTO:+0200
TZNAME:CEST
DTSTART:20220327T010000
END:DAYLIGHT
BEGIN:STANDARD
TZOFFSETFROM:+0200
TZOFFSETTO:+0100
TZNAME:CET
DTSTART:20221030T010000
END:STANDARD
BEGIN:DAYLIGHT
TZOFFSETFROM:+0100
TZOFFSETTO:+0200
TZNAME:CEST
DTSTART:20230326T010000
END:DAYLIGHT
BEGIN:STANDARD
TZOFFSETFROM:+0200
TZOFFSETTO:+0100
TZNAME:CET
DTSTART:20231029T010000
END:STANDARD
BEGIN:DAYLIGHT
TZOFFSETFROM:+0100
TZOFFSETTO:+0200
TZNAME:CEST
DTSTART:20240331T010000
END:DAYLIGHT
BEGIN:STANDARD
TZOFFSETFROM:+0200
TZOFFSETTO:+0100
TZNAME:CET
DTSTART:20241027T010000
END:STANDARD
END:VTIMEZONE
BEGIN:VEVENT
DTSTART;TZID=Europe/Berlin:20231201T180000
DTEND;TZID=Europe/Berlin:20231201T220000
DTSTAMP:20260421T111952
CREATED:20221219T160359Z
LAST-MODIFIED:20231025T154924Z
UID:4245-1701453600-1701468000@kleinkunstbuehne-koenigsbrunn.de
SUMMARY:Chris Boettcher - Immer dieser Druck
DESCRIPTION:Erfolgsdruck\, Zeitdruck\, Leistungsdruck\, 90 % der Deutschen empfinden sich anhaltendem Druck ausgesetzt. Auch Torwart-Titan Oli Kahn klagte in seiner aktiven Zeit nach jedem Spiel über wahnsinnigen\, immensen\, unglaublichen … Druck!\nSchon seit Jahren DIE Steilvorlage für Chris Boettcher\, der in seinen Radio-Comedies und auf der Live-Bühne nicht nur den Titan unnachahmlich gut in Szene setzt.\nNatürlich leiden in Boettchers neuen Programm „Immer dieser Druck!“ auch andere prominente Zeitgenossen unter besagtem Zivilisatiosphänomen. Grund genug\, dem negativen Druck etwas Positives entgegenzustellen: wahnsinnigen\, immensen\, unglaublichen Lachdruck!\nParodie\, Musik-und Standup-Comedy vom wohl vielseitigsten bayerischen Kabarettisten\, Schöpfer zahlreicher Radio-Comedies in Bayern 3 und Bayern 1 und Autor des Kult-Songs „In der Pubertät“ und des Wiesn-Hits “10 Meter geh“- ab März 2020 auf allen guten Kabarettbühnen!\nVorverkaufsgebühren € 2\,90 pro Ticket\nVersandkosten (versichert) € 3\,90 pro Bestellung\n  \nTickets
URL:https://kleinkunstbuehne-koenigsbrunn.de/event/chris-boettcher-immer-dieser-druck/
LOCATION:Theatersaal des Trachtenheims\, Donauwörther Str. 46\, Königsbrunn\, 86343\, Deutschland
CATEGORIES:Comedy,Kabarett,Konzert
ATTACH;FMTTYPE=image/jpeg:https://kleinkunstbuehne-koenigsbrunn.de/wp-content/uploads/2022/12/KOE9521_presse.jpg
END:VEVENT
BEGIN:VEVENT
DTSTART;TZID=Europe/Berlin:20231229T180000
DTEND;TZID=Europe/Berlin:20231229T230000
DTSTAMP:20260421T111952
CREATED:20230512T081023Z
LAST-MODIFIED:20231206T205359Z
UID:4659-1703872800-1703890800@kleinkunstbuehne-koenigsbrunn.de
SUMMARY:The Best of Musical - AUSVERKAUFT
DESCRIPTION:Musical Dinner Show\nDas Original von DS Entertainment\nBegleiten Sie uns auf eine einzigartige Reise in die Welt der Musicals\nWir präsentieren Ihnen das original Musical Dinner von DS Entertainment: EIn Showerlebnis in Theaterqualität.\nLive-Gesang\nErleben Sie stimmgewaltigen Live-Gesang unserer Darsteller\, in aufwendigen und stilechten Kostümen auf Theater-Niveau!\nMenu\nDie Musical-Dinner-Show wird begleitet von einem exquisiten 3-Gang-Menü.\nMusical-Hits\nErleben Sie hautnah die Höhepunkte aus klassischen und aktuellen Musicals.\n  \nTickets
URL:https://kleinkunstbuehne-koenigsbrunn.de/event/the-best-of-musical-2/
LOCATION:Theatersaal des Trachtenheims\, Donauwörther Str. 46\, Königsbrunn\, 86343\, Deutschland
CATEGORIES:Konzert
ATTACH;FMTTYPE=image/jpeg:https://kleinkunstbuehne-koenigsbrunn.de/wp-content/uploads/2022/10/14907812_1375757229121518_2018896364_o-1.jpg
END:VEVENT
END:VCALENDAR